BEGIN:VCALENDAR
VERSION:2.0
PRODID:-//Balsam Mountain Trust - ECPv6.15.20//NONSGML v1.0//EN
CALSCALE:GREGORIAN
METHOD:PUBLISH
X-WR-CALNAME:Balsam Mountain Trust
X-ORIGINAL-URL:https://bmtrust.org
X-WR-CALDESC:Events for Balsam Mountain Trust
REFRESH-INTERVAL;VALUE=DURATION:PT1H
X-Robots-Tag:noindex
X-PUBLISHED-TTL:PT1H
BEGIN:VTIMEZONE
TZID:America/New_York
BEGIN:DAYLIGHT
TZOFFSETFROM:-0500
TZOFFSETTO:-0400
TZNAME:EDT
DTSTART:20220313T070000
END:DAYLIGHT
BEGIN:STANDARD
TZOFFSETFROM:-0400
TZOFFSETTO:-0500
TZNAME:EST
DTSTART:20221106T060000
END:STANDARD
BEGIN:DAYLIGHT
TZOFFSETFROM:-0500
TZOFFSETTO:-0400
TZNAME:EDT
DTSTART:20230312T070000
END:DAYLIGHT
BEGIN:STANDARD
TZOFFSETFROM:-0400
TZOFFSETTO:-0500
TZNAME:EST
DTSTART:20231105T060000
END:STANDARD
BEGIN:DAYLIGHT
TZOFFSETFROM:-0500
TZOFFSETTO:-0400
TZNAME:EDT
DTSTART:20240310T070000
END:DAYLIGHT
BEGIN:STANDARD
TZOFFSETFROM:-0400
TZOFFSETTO:-0500
TZNAME:EST
DTSTART:20241103T060000
END:STANDARD
END:VTIMEZONE
BEGIN:VEVENT
DTSTART;TZID=America/New_York:20231208T130000
DTEND;TZID=America/New_York:20231208T150000
DTSTAMP:20260421T064727
CREATED:20231206T154523Z
LAST-MODIFIED:20231206T154523Z
UID:5402-1702040400-1702047600@bmtrust.org
SUMMARY:Holiday Helpers - for Wildlife!
DESCRIPTION:Meet at the Nature Center to create an evergreen enrichment activity for the Trust’s animal ambassadors and share a little holiday cheer with the wild animals of the Preserve as well! Amy and Rachael will be your guides in making food puzzles with “Christmas Trees” for our very own critters\, followed by crafting edible ornaments to decorate your own outdoor tree at home for the wild creatures.  
URL:https://bmtrust.org/event/holiday-helpers-for-wildlife/
CATEGORIES:Members Only
ATTACH;FMTTYPE=image/jpeg:https://bmtrust.org/wp-content/uploads/2023/12/holiday-opossum.jpg
END:VEVENT
BEGIN:VEVENT
DTSTART;TZID=America/New_York:20231214T183000
DTEND;TZID=America/New_York:20231214T200000
DTSTAMP:20260421T064727
CREATED:20231206T153246Z
LAST-MODIFIED:20231206T153246Z
UID:5397-1702578600-1702584000@bmtrust.org
SUMMARY:Sylva Naturalist Club at Jackson County Library
DESCRIPTION:
URL:https://bmtrust.org/event/sylva-naturalist-club-at-jackson-county-library/
CATEGORIES:Public
ATTACH;FMTTYPE=image/jpeg:https://bmtrust.org/wp-content/uploads/2023/12/Sylva-Naturalist-Club-3.jpg
END:VEVENT
BEGIN:VEVENT
DTSTART;TZID=America/New_York:20231217T110000
DTEND;TZID=America/New_York:20231217T123000
DTSTAMP:20260421T064727
CREATED:20231206T201540Z
LAST-MODIFIED:20231206T201540Z
UID:5435-1702810800-1702816200@bmtrust.org
SUMMARY:Get Twiggy: Winter Tree ID with Gina
DESCRIPTION:Come learn the basics of winter tree identification using twigs and winter buds. This program will be indoors and include a tasting of warm sassafras tea.
URL:https://bmtrust.org/event/get-twiggy-winter-tree-id-with-gina/
CATEGORIES:Members Only
ATTACH;FMTTYPE=image/webp:https://bmtrust.org/wp-content/uploads/2023/12/common-winter-tree-buds-of-eastern-north-america.jpg.webp
END:VEVENT
BEGIN:VEVENT
DTSTART;TZID=America/New_York:20231217T150000
DTEND;TZID=America/New_York:20231217T170000
DTSTAMP:20260421T064727
CREATED:20231206T162301Z
LAST-MODIFIED:20231206T162301Z
UID:5409-1702825200-1702832400@bmtrust.org
SUMMARY:Balsam @ Pinnacle Hikes - Life in the Cold
DESCRIPTION:Join Dr. Michael Wall for a gentle stroll weaving through the Forest Therapy Trail at Pinnacle Park. As we stroll\, we’ll observe and ponder how plants and animals in the Appalachians cope with life in the cold. Why do Christmas Ferns “lay down” for the winter? What is the story with Rhododendron leaf curl in frigid temperatures? What is happening in the leaf litter? How about the streams? We’ll learn that the forest isn’t quite as dormant as it appears at first glance. Meet at 3pm in the parking lot. If the weather looks questionable\, then check the Trust’s Facebook page to see if we are cancelling or postponing. If nothing is posted\, assume it is a go!
URL:https://bmtrust.org/event/balsam-pinnacle-hikes-life-in-the-cold/
CATEGORIES:Public
END:VEVENT
BEGIN:VEVENT
DTSTART;TZID=America/New_York:20231220T150000
DTEND;TZID=America/New_York:20231220T170000
DTSTAMP:20260421T064727
CREATED:20231206T160314Z
LAST-MODIFIED:20231206T160314Z
UID:5405-1703084400-1703091600@bmtrust.org
SUMMARY:Balsam Naturalist Club
DESCRIPTION:Calling all book and nature lovers\, artists\, scientists\, poets… All are welcome! Bring your favorite tea mug\, your copy of The Forest Unseen\, your journal observations\, and be ready to share your special finds this month. Feel free to join us even if you’ve not done the reading or found your plot yet; you’ll still get a lot out of it! Contact Amy for this month’s reading at aduggins@bmtrust.org. Meet at the Outpost (or join us by Zoom if you’re away from the Mountain – contact Amy for link).
URL:https://bmtrust.org/event/balsam-naturalist-club-4/
CATEGORIES:Members Only
ATTACH;FMTTYPE=image/jpeg:https://bmtrust.org/wp-content/uploads/2023/10/Naturalist-Club.jpg
END:VEVENT
BEGIN:VEVENT
DTSTART;TZID=America/New_York:20231228T130000
DTEND;TZID=America/New_York:20231228T143000
DTSTAMP:20260421T064727
CREATED:20231206T162031Z
LAST-MODIFIED:20231206T162031Z
UID:5410-1703768400-1703773800@bmtrust.org
SUMMARY:Balsam Mountain Stewards: Warm-up for the Christmas Bird Count
DESCRIPTION:Join Amy at the Nature Center\, grab a cup of hot tea or hot chocolate\, and brush up on your bird ID skills. We’ll look at photos and listen to recordings of some of the birds we’re most likely to encounter at the Preserve this time of year\, and challenge ourselves with a bird ID quiz (no pressure!). Learn how you can participate in the annual Christmas Bird Count on count day (Dec. 31) or the three days before and after. Or just come for the fun with fellow avian enthusiasts.
URL:https://bmtrust.org/event/balsam-mountain-stewards-warm-up-for-the-christmas-bird-count/
CATEGORIES:Members Only
ATTACH;FMTTYPE=image/jpeg:https://bmtrust.org/wp-content/uploads/2023/12/tufted-titmouse-by-Ian-Lee-scaled.jpg
END:VEVENT
END:VCALENDAR